BEGIN:VCALENDAR
VERSION:2.0
PRODID:-//pretix//pretix.eu//
BEGIN:VTIMEZONE
TZID:Europe/Berlin
BEGIN:STANDARD
DTSTART:20001029T040000
RRULE:FREQ=YEARLY;BYDAY=-1SU;BYMONTH=10
TZNAME:CET
TZOFFSETFROM:+0200
TZOFFSETTO:+0100
END:STANDARD
BEGIN:DAYLIGHT
DTSTART:20000326T030000
RRULE:FREQ=YEARLY;BYDAY=-1SU;BYMONTH=3
TZNAME:CEST
TZOFFSETFROM:+0100
TZOFFSETTO:+0200
END:DAYLIGHT
END:VTIMEZONE
BEGIN:VEVENT
UID:pretix-tw-dfd-3-0@tickets.textilwirtschaft.de
DTSTART;TZID=Europe/Berlin:20250718T160000
DTEND;TZID=Europe/Berlin:20250718T180000
DESCRIPTION:Tickets: https://tickets.textilwirtschaft.de/dfd-3/\nVeranstalt
 er: Textil und Mode
DTSTAMP:20260420T204809Z
LOCATION:Kaiserswerther Straße 119 40474 Düsseldorf
SUMMARY:TW connect @Supreme Women&Men Düsseldorf | event sponsored by stor
 eemotions
END:VEVENT
END:VCALENDAR
