BEGIN:VCALENDAR
VERSION:2.0
PRODID:-//pretix//pretix.eu//
BEGIN:VEVENT
UID:pretix-tw-twforum26-0@tickets.textilwirtschaft.de
DTSTART;VALUE=DATE:20260429
DTEND;VALUE=DATE:20260430
DESCRIPTION:Tickets: https://tickets.textilwirtschaft.de/twforum26/\nVerans
 talter: Textil und Mode
DTSTAMP:20260420T151615Z
LOCATION:Gesellschaftshaus Palmengarten\, Palmengartenstraße 11\, 60325 Fr
 ankfurt am Main\, Germany
SUMMARY:67. Forum der TextilWirtschaft 2026
END:VEVENT
END:VCALENDAR
