BEGIN:VCALENDAR
VERSION:2.0
PRODID:-//pretix//pretix.eu//
BEGIN:VTIMEZONE
TZID:Europe/Berlin
BEGIN:STANDARD
DTSTART:20001029T040000
RRULE:FREQ=YEARLY;BYDAY=-1SU;BYMONTH=10
TZNAME:CET
TZOFFSETFROM:+0200
TZOFFSETTO:+0100
END:STANDARD
BEGIN:DAYLIGHT
DTSTART:20000326T030000
RRULE:FREQ=YEARLY;BYDAY=-1SU;BYMONTH=3
TZNAME:CEST
TZOFFSETFROM:+0100
TZOFFSETTO:+0200
END:DAYLIGHT
END:VTIMEZONE
BEGIN:VEVENT
UID:pretix-tw-pitti-5-0@tickets.textilwirtschaft.de
DTSTART;TZID=Europe/Berlin:20260113T160000
DTEND;TZID=Europe/Berlin:20260113T180000
DESCRIPTION:Tickets: https://tickets.textilwirtschaft.de/pitti-5/\nVeransta
 lter: Textil und Mode
DTSTAMP:20260420T210033Z
LOCATION:Fortezza da basso\,\, Viale Filippo Strozzi\, 1\, 50129 Florenz
SUMMARY:TW connect @Florenz
END:VEVENT
END:VCALENDAR
