BEGIN:VCALENDAR
VERSION:2.0
PRODID:-//pretix//pretix.eu//
BEGIN:VTIMEZONE
TZID:Europe/Berlin
BEGIN:STANDARD
DTSTART:20001029T040000
RRULE:FREQ=YEARLY;BYDAY=-1SU;BYMONTH=10
TZNAME:CET
TZOFFSETFROM:+0200
TZOFFSETTO:+0100
END:STANDARD
BEGIN:DAYLIGHT
DTSTART:20000326T030000
RRULE:FREQ=YEARLY;BYDAY=-1SU;BYMONTH=3
TZNAME:CEST
TZOFFSETFROM:+0100
TZOFFSETTO:+0200
END:DAYLIGHT
END:VTIMEZONE
BEGIN:VEVENT
UID:pretix-tw-spwi50-event-0@tickets.textilwirtschaft.de
DTSTART;TZID=Europe/Berlin:20251127T190000
DTEND;TZID=Europe/Berlin:20251127T200000
DESCRIPTION:Tickets: https://tickets.textilwirtschaft.de/spwi50-event/\nOrg
 anizer: Textil und Mode
DTSTAMP:20260420T205936Z
LOCATION:Piazza Mentana 3\,\, Milano\, -accanto al Candiani Store-
SUMMARY:SPWI x Candiani x Denim PV
END:VEVENT
END:VCALENDAR
