BEGIN:VCALENDAR
VERSION:2.0
PRODID:-//pretix//pretix.eu//
BEGIN:VEVENT
UID:pretix-tw-twforum25-0@tickets.textilwirtschaft.de
DTSTART;VALUE=DATE:20250515
DTEND;VALUE=DATE:20250517
DESCRIPTION:Tickets: https://tickets.textilwirtschaft.de/twforum25/\nVerans
 talter: Textil und Mode
DTSTAMP:20260420T204836Z
LOCATION:Gesellschaftshaus Palmengarten\, Palmengartenstraße 11\, 60325 Fr
 ankfurt am Main\, Germany
SUMMARY:66. Forum der TextilWirtschaft 2025
END:VEVENT
END:VCALENDAR
